BEGIN:VCALENDAR
VERSION:2.0
METHOD:PUBLISH
PRODID:-//Telerik Inc.//Sitefinity CMS 14.4//EN
BEGIN:VTIMEZONE
TZID:Eastern Standard Time
BEGIN:STANDARD
DTSTART:20251102T020000
RRULE:FREQ=YEARLY;BYDAY=1SU;BYHOUR=2;BYMINUTE=0;BYMONTH=11
TZNAME:Eastern Standard Time
TZOFFSETFROM:-0400
TZOFFSETTO:-0500
END:STANDARD
BEGIN:DAYLIGHT
DTSTART:20250301T020000
RRULE:FREQ=YEARLY;BYDAY=2SU;BYHOUR=2;BYMINUTE=0;BYMONTH=3
TZNAME:Eastern Daylight Time
TZOFFSETFROM:-0500
TZOFFSETTO:-0400
END:DAYLIGHT
END:VTIMEZONE
BEGIN:VEVENT
DESCRIPTION:Use of Classroom for Fall 2026 Chairside Course
DTEND;TZID=Eastern Standard Time:20260916T213000
DTSTAMP:20260423T111443Z
DTSTART;TZID=Eastern Standard Time:20260916T183000
LOCATION:
RRULE:FREQ=WEEKLY;COUNT=16;BYDAY=WE
SEQUENCE:0
SUMMARY:DATC
UID:RFCALITEM639125396832974899
X-ALT-DESC;FMTTYPE=text/html:Use of Classroom for Fall 2026 Chairside Cours
 e
END:VEVENT
END:VCALENDAR
